BEGIN:VCALENDAR
VERSION:2.0
PRODID:-//Squarespace Inc/Squarespace 6//v6//EN
BEGIN:VEVENT
UID:5bbd6ba4b208fc8689d8d5dc@squarespace.com
DTSTAMP:20181010T181711Z
DTSTART:20181015T223000Z
DTEND:20181016T003000Z
SUMMARY:Cheers To Election Years
GEO:39.975856;-86.129297
LOCATION:Sun King Spirits
END:VEVENT
END:VCALENDAR
