BEGIN:VCALENDAR
VERSION:2.0
PRODID:-//Squarespace Inc/Squarespace 6//v6//EN
BEGIN:VEVENT
UID:5bb28a18104c7bcc2118527c@squarespace.com
DTSTAMP:20181002T032946Z
DTSTART:20181003T220000Z
DTEND:20181004T000000Z
SUMMARY:Meet Your Candidate
GEO:39.956755;-86.01335
LOCATION:The Well Coffeehouse\, Fishers\, Indiana
END:VEVENT
END:VCALENDAR
