BEGIN:VCALENDAR
VERSION:2.0
PRODID:-//Squarespace Inc/Squarespace 6//v6//EN
BEGIN:VEVENT
UID:5bcdeae28165f55241058e94@squarespace.com
DTSTAMP:20181022T152306Z
DTSTART:20181030T100000Z
DTEND:20181031T000000Z
SUMMARY:Candidates + Cocktails
GEO:39.870532;-86.142672
LOCATION:The Corner\, 6331 Guilford Avenue\, Indianapolis\, IN\, 46220\, Un
 ited States
END:VEVENT
END:VCALENDAR
