BEGIN:VCALENDAR
VERSION:2.0
PRODID:-//Squarespace Inc/Squarespace 6//v6//EN
BEGIN:VEVENT
UID:5bb8f7879140b7048328da27@squarespace.com
DTSTAMP:20181006T180041Z
DTSTART:20181007T140000Z
DTEND:20181007T160000Z
SUMMARY:Day of Action - Howard County
GEO:40.477841;-85.96681
LOCATION:101 W. Main Street\, Greentown\, Indiana
END:VEVENT
END:VCALENDAR
