BEGIN:VCALENDAR
VERSION:2.0
PRODID:-//Squarespace Inc/Squarespace 6//v6//EN
BEGIN:VEVENT
UID:5bb8f89671c10b92926bfdb1@squarespace.com
DTSTAMP:20181006T180659Z
DTSTART:20181007T160000Z
DTEND:20181007T200000Z
SUMMARY:Day of Action - Madison County
GEO:40.108063;-85.679804
LOCATION:18 W 8th Street\, Anderson\, Indiana
END:VEVENT
END:VCALENDAR
