BEGIN:VCALENDAR
VERSION:2.0
PRODID:-//Squarespace Inc/Squarespace 6//v6//EN
BEGIN:VEVENT
UID:5bb8fad4ec212d5199cb66e1@squarespace.com
DTSTAMP:20181006T181330Z
DTSTART:20181009T220000Z
DTEND:20181009T233000Z
SUMMARY:Postcard Party for Dee Thornton
GEO:40.575567;-85.700051
LOCATION:2617 Ticondaroga Drive\, Marion\, Indiana
END:VEVENT
END:VCALENDAR
