BEGIN:VCALENDAR
VERSION:2.0
PRODID:-//Squarespace Inc/Squarespace 6//v6//EN
BEGIN:VEVENT
UID:5bb8f9e67817f7ebddae9a56@squarespace.com
DTSTAMP:20181006T181132Z
DTSTART:20181008T220000Z
DTEND:20181009T000000Z
SUMMARY:Postcard and Senate Debate Watch Party!
GEO:39.88646;-86.120698
LOCATION:7235 N Keystone Ave\, Suite G\, Indianapolis\, Indiana
END:VEVENT
END:VCALENDAR
