BEGIN:VCALENDAR
VERSION:2.0
PRODID:-//Squarespace Inc/Squarespace 6//v6//EN
BEGIN:VEVENT
UID:5b8e8bba1ae6cf1d7d0656dd@squarespace.com
DTSTAMP:20180918T142535Z
DTSTART:20181101T230000Z
DTEND:20181102T020000Z
SUMMARY:Candidate Forum
GEO:40.019152;-86.172701
LOCATION:Shamrock Springs Elementary
END:VEVENT
END:VCALENDAR
