BEGIN:VCALENDAR
VERSION:2.0
PRODID:-//Squarespace Inc/Squarespace 6//v6//EN
BEGIN:VEVENT
UID:5b6c864b562fa77600512353@squarespace.com
DTSTAMP:20180809T182402Z
DTSTART:20180811T134500Z
DTEND:20180811T160000Z
SUMMARY:Grant County - Day of Action
END:VEVENT
END:VCALENDAR
