BEGIN:VCALENDAR
VERSION:2.0
PRODID:-//Squarespace Inc/Squarespace 6//v6//EN
BEGIN:VEVENT
UID:5b6c86d021c67c3d1c61c137@squarespace.com
DTSTAMP:20180809T182550Z
DTSTART:20180825T210000Z
DTEND:20180826T000000Z
SUMMARY:Festival Under The Canopy
END:VEVENT
END:VCALENDAR
