BEGIN:VCALENDAR
VERSION:2.0
PRODID:-//Squarespace Inc/Squarespace 6//v6//EN
BEGIN:VEVENT
UID:5b6c87462b6a288e3784dd7e@squarespace.com
DTSTAMP:20180809T182916Z
DTSTART:20180908T170000Z
DTEND:20180908T200000Z
SUMMARY:Tipton County Pork Festival
END:VEVENT
END:VCALENDAR
