BEGIN:VCALENDAR
VERSION:2.0
PRODID:-//Squarespace Inc/Squarespace 6//v6//EN
BEGIN:VEVENT
UID:5b8e9439c2241bd6c2e3dc76@squarespace.com
DTSTAMP:20180905T180832Z
DTSTART:20180912T140000Z
DTEND:20180912T150000Z
SUMMARY:Donuts With Dee
GEO:40.720756;-74.000761
LOCATION:2466 E. 116th Street\, Carmel\, Indiana
END:VEVENT
END:VCALENDAR
