BEGIN:VCALENDAR
VERSION:2.0
PRODID:-//Squarespace Inc/Squarespace 6//v6//EN
BEGIN:VEVENT
UID:5ba12526562fa73a13e16c9e@squarespace.com
DTSTAMP:20180918T162102Z
DTSTART:20180923T170000Z
DTEND:20180923T180000Z
SUMMARY:Meet Dee Thornton
GEO:40.093527;-86.033798
LOCATION:Wolfie's Waterfront Grill\, 20999 Hague Road\, Noblesville\, IN\, 
 46062\, United States
END:VEVENT
END:VCALENDAR
