BEGIN:VCALENDAR
VERSION:2.0
PRODID:-//Squarespace Inc/Squarespace 6//v6//EN
BEGIN:VEVENT
UID:5bb2e7141905f4e0661fafb0@squarespace.com
DTSTAMP:20181002T033406Z
DTSTART:20181031T140000Z
DTEND:20181031T150000Z
SUMMARY:Donuts With Dee
GEO:39.958928;-86.115257
LOCATION:2466 E. 116th Street\, Carmel\, Indiana
END:VEVENT
END:VCALENDAR
