BEGIN:VCALENDAR
VERSION:2.0
PRODID:-//Squarespace Inc/Squarespace 6//v6//EN
BEGIN:VEVENT
UID:5bbd49e38165f596525d06db@squarespace.com
DTSTAMP:20181010T003838Z
DTSTART:20181010T140000Z
DTEND:20181010T150000Z
SUMMARY:Donuts With Dee
GEO:39.958928;-86.115257
LOCATION:2466 E. 116th Street\, Carmel\, Indiana
END:VEVENT
END:VCALENDAR
