BEGIN:VCALENDAR
VERSION:2.0
PRODID:-//Squarespace Inc/Squarespace 6//v6//EN
BEGIN:VEVENT
UID:5ba2b554c2241bfe3f9a2b8d@squarespace.com
DTSTAMP:20180919T204801Z
DTSTART:20180923T160000Z
DTEND:20180923T220000Z
SUMMARY:Day of Action - Lawrence
GEO:39.897975;-86.033918
LOCATION:Indianapolis Public Library - Lawrence Branch\, 7898 Hague Road\, 
 Indianapolis\, IN 46256
END:VEVENT
END:VCALENDAR
