BEGIN:VCALENDAR
VERSION:2.0
PRODID:-//Squarespace Inc/Squarespace 6//v6//EN
BEGIN:VEVENT
UID:5bb2e6e30d92974d9003c4e9@squarespace.com
DTSTAMP:20181002T033318Z
DTSTART:20181024T140000Z
DTEND:20181024T150000Z
SUMMARY:Donuts With Dee
GEO:39.88646;-86.120698
LOCATION:7235 Keystone Avenue\, Indianapolis\, Indiana
END:VEVENT
END:VCALENDAR
