BEGIN:VCALENDAR
VERSION:2.0
PRODID:-//Squarespace Inc/Squarespace 6//v6//EN
BEGIN:VEVENT
UID:5ba126f640ec9a1af8f7ce1c@squarespace.com
DTSTAMP:20181002T033251Z
DTSTART:20181003T140000Z
DTEND:20181003T150000Z
SUMMARY:Donuts With Dee
GEO:39.88646;-86.120698
LOCATION:7235 Keystone Avenue\, Indianapolis\, Indiana
END:VEVENT
END:VCALENDAR
