BEGIN:VCALENDAR
VERSION:2.0
PRODID:-//Squarespace Inc/Squarespace 6//v6//EN
BEGIN:VEVENT
UID:5ba9bc22085229e608f3e583@squarespace.com
DTSTAMP:20180925T044323Z
DTSTART:20180929T160000Z
DTEND:20180929T190000Z
SUMMARY:Walk With Dee
GEO:40.407513;-85.654139
LOCATION:10152 South 100 East Steet\, Fairmount\, Indiana 46928
END:VEVENT
END:VCALENDAR
