BEGIN:VCALENDAR
VERSION:2.0
PRODID:-//Squarespace Inc/Squarespace 6//v6//EN
BEGIN:VEVENT
UID:5b8e8ca7562fa736b20a353a@squarespace.com
DTSTAMP:20180926T171101Z
DTSTART:20181023T220000Z
DTEND:20181024T010000Z
SUMMARY:Candidate Forum 
GEO:40.108381;-85.677638
LOCATION:120 E. 8th Street\, Anderson\, Indiana
END:VEVENT
END:VCALENDAR
