BEGIN:VCALENDAR
VERSION:2.0
PRODID:-//Squarespace Inc/Squarespace 6//v6//EN
BEGIN:VEVENT
UID:5b8e926b575d1ff32730abbc@squarespace.com
DTSTAMP:20180904T141950Z
DTSTART:20180905T140000Z
DTEND:20180905T150000Z
SUMMARY:Donuts With Dee
GEO:39.958928;-86.115257
LOCATION:2466 E. 116th Street\, Carmel\, Indiana
END:VEVENT
END:VCALENDAR
