BEGIN:VCALENDAR
VERSION:2.0
PRODID:-//Squarespace Inc/Squarespace 6//v6//EN
BEGIN:VEVENT
UID:5b8e960d562fa7a895f7bbb5@squarespace.com
DTSTAMP:20180904T142729Z
DTSTART:20180904T143000Z
DTEND:20180904T153000Z
SUMMARY:Zionsville Fall Festival Parade
GEO:39.950873;-86.261937
LOCATION:Zionsville\, Indiana
END:VEVENT
END:VCALENDAR
