BEGIN:VCALENDAR
VERSION:2.0
PRODID:-//Squarespace Inc/Squarespace 6//v6//EN
BEGIN:VEVENT
UID:5e00d92f53bea1104fc947f0@squarespace.com
DTSTAMP:20191223T151343Z
DTSTART:20200125T140000Z
DTEND:20200125T150000Z
SUMMARY:Huddle with Dee - Education
GEO:39.963724;-86.115276
LOCATION:600 E Carmel Drive\, Carmel\, United States
END:VEVENT
END:VCALENDAR
