BEGIN:VCALENDAR
VERSION:2.0
PRODID:-//Squarespace Inc/Squarespace 6//v6//EN
BEGIN:VEVENT
UID:5e00d822b8cce867603ad67d@squarespace.com
DTSTAMP:20191223T151327Z
DTSTART:20200112T200000Z
DTEND:20200112T210000Z
SUMMARY:Huddle with Dee - Education
GEO:39.963724;-86.115276
LOCATION:600 E Carmel Drive\, Carmel\, United States
END:VEVENT
END:VCALENDAR
