BEGIN:VCALENDAR
VERSION:2.0
PRODID:-//Squarespace Inc/Squarespace 6//v6//EN
BEGIN:VEVENT
UID:5ded89554d5f2571c8df37a1@squarespace.com
DTSTAMP:20191223T150714Z
DTSTART:20191214T140000Z
DTEND:20191214T150000Z
SUMMARY:Huddle with Dee - Immigration
GEO:39.991005;-86.006083
LOCATION:14074 Trade Center Drive\, Fishers\, IN\, 46038\, United States
END:VEVENT
END:VCALENDAR
