BEGIN:VCALENDAR
VERSION:2.0
PRODID:-//Squarespace Inc/Squarespace 6//v6//EN
BEGIN:VEVENT
UID:5d05d2a3e53ed50001164990@squarespace.com
DTSTAMP:20190617T010441Z
DTSTART:20190715T213000Z
DTEND:20190715T233000Z
SUMMARY:2020 Campaign Kickoff
GEO:39.878664;-86.136821
LOCATION:The Willows\, 6729 E. Westfield Boulevard\, Indianapolis\, IN\, 46
 220\, United States
END:VEVENT
END:VCALENDAR
