BEGIN:VCALENDAR
VERSION:2.0
PRODID:-//Squarespace Inc/Squarespace 6//v6//EN
BEGIN:VEVENT
UID:5d59bbebcb97dc000125c0fd@squarespace.com
DTSTAMP:20191022T001147Z
DTSTART:20191123T140000Z
DTEND:20191123T150000Z
SUMMARY:Huddle with Dee - Gun Reform
GEO:39.855792;-86.006178
LOCATION:9165 Otis Avenue\, Indianapolis\, IN\, 46216
END:VEVENT
END:VCALENDAR
