BEGIN:VCALENDAR
VERSION:2.0
PRODID:-//Squarespace Inc/Squarespace 6//v6//EN
BEGIN:VEVENT
UID:5d59bc96b14a6500019b9726@squarespace.com
DTSTAMP:20190818T210122Z
DTSTART:20191026T130000Z
DTEND:20191026T140000Z
SUMMARY:Huddle with Dee - Environment
GEO:39.963724;-86.115276
LOCATION:600 E Carmel Drive\, Carmel\, IN 46032-2802
END:VEVENT
END:VCALENDAR
