BEGIN:VCALENDAR
VERSION:2.0
PRODID:-//Squarespace Inc/Squarespace 6//v6//EN
BEGIN:VEVENT
UID:5d59bc23b14a6500019b918a@squarespace.com
DTSTAMP:20190818T210110Z
DTSTART:20191002T130000Z
DTEND:20191002T140000Z
SUMMARY:Huddle with Dee - Environment
GEO:39.963724;-86.115276
LOCATION:600 E Carmel Drive\, Carmel\, IN 46032-2802
END:VEVENT
END:VCALENDAR
