BEGIN:VCALENDAR
VERSION:2.0
PRODID:-//Squarespace Inc/Squarespace 6//v6//EN
BEGIN:VEVENT
UID:5d59bb3e34ee4800018b53b1@squarespace.com
DTSTAMP:20190818T205615Z
DTSTART:20190921T130000Z
DTEND:20190921T140000Z
SUMMARY:Huddle with Dee - Healthcare
GEO:39.963724;-86.115276
LOCATION:600 E Carmel Drive\, Carmel\, IN 46032-2802
END:VEVENT
END:VCALENDAR
