BEGIN:VCALENDAR
VERSION:2.0
PRODID:-//Squarespace Inc/Squarespace 6//v6//EN
BEGIN:VEVENT
UID:5d59b968b0959d0001a20303@squarespace.com
DTSTAMP:20190818T205526Z
DTSTART:20190911T130000Z
DTEND:20190911T140000Z
SUMMARY:Huddle with Dee - Healthcare
GEO:39.963724;-86.115276
LOCATION:600 E Carmel Drive\, Carmel\, IN 46032-2802
END:VEVENT
END:VCALENDAR
