BEGIN:VCALENDAR
VERSION:2.0
PRODID:-//Squarespace Inc/Squarespace 6//v6//EN
BEGIN:VEVENT
UID:5e406fe4c0b9914844341e58@squarespace.com
DTSTAMP:20200212T202143Z
DTSTART:20200223T200000Z
DTEND:20200223T220000Z
SUMMARY:Celebrate Our Power
GEO:39.964798;-86.159205
LOCATION:Ritz Charles
END:VEVENT
END:VCALENDAR
