BEGIN:VCALENDAR
VERSION:2.0
PRODID:-//Squarespace Inc/Squarespace 6//v6//EN
BEGIN:VEVENT
UID:5e7d163c99893e3b4f418f84@squarespace.com
DTSTAMP:20200504T140614Z
DTSTART:20200506T130000Z
DTEND:20200506T140000Z
SUMMARY:Doughnuts with Dee Thornton 
GEO:39.9693;-86.165002
LOCATION:Zoom Call
END:VEVENT
END:VCALENDAR
