BEGIN:VCALENDAR
VERSION:2.0
PRODID:-//Squarespace Inc/Squarespace 6//v6//EN
BEGIN:VEVENT
UID:5e5ac9c2bcd48e5c8c2b782a@squarespace.com
DTSTAMP:20200326T190055Z
DTSTART:20200401T130000Z
DTEND:20200401T140000Z
SUMMARY:Doughnuts with Dee Thornton 
GEO:37.332854;-121.894908
LOCATION:Zoom Call
END:VEVENT
END:VCALENDAR
