BEGIN:VCALENDAR
VERSION:2.0
PRODID:-//Squarespace Inc/Squarespace 6//v6//EN
BEGIN:VEVENT
UID:5e5ac9b70054c853616b9ea4@squarespace.com
DTSTAMP:20200504T141653Z
DTSTART:20200520T130000Z
DTEND:20200520T140000Z
SUMMARY:Doughnuts with Dee Thornton
END:VEVENT
END:VCALENDAR
