BEGIN:VCALENDAR
VERSION:2.0
PRODID:-//Squarespace Inc/Squarespace 6//v6//EN
BEGIN:VEVENT
UID:5e5ac9a5118337590d8e1e4b@squarespace.com
DTSTAMP:20200326T204359Z
DTSTART:20200408T130000Z
DTEND:20200408T140000Z
SUMMARY:Doughnuts with Dee Thornton
GEO:37.332854;-121.894908
LOCATION:Zoom Call
END:VEVENT
END:VCALENDAR
