BEGIN:VCALENDAR
VERSION:2.0
PRODID:-//Squarespace Inc/Squarespace 6//v6//EN
BEGIN:VEVENT
UID:5e5ac34c118337590d8cfa1b@squarespace.com
DTSTAMP:20200504T140719Z
DTSTART:20200513T130000Z
DTEND:20200513T140000Z
SUMMARY:Doughnuts with Dee Thornton
GEO:39.9693;-86.165002
LOCATION:Zoom Call
END:VEVENT
END:VCALENDAR
