BEGIN:VCALENDAR
VERSION:2.0
PRODID:-//Squarespace Inc/Squarespace 6//v6//EN
BEGIN:VEVENT
UID:5eba1fe16a3b687667d63aa8@squarespace.com
DTSTAMP:20200513T173902Z
DTSTART:20200528T000000Z
DTEND:20200528T010000Z
SUMMARY:Huddle with Dee Thornton  
END:VEVENT
END:VCALENDAR
