BEGIN:VCALENDAR
VERSION:2.0
PRODID:-//Squarespace Inc/Squarespace 6//v6//EN
BEGIN:VEVENT
UID:5eba1fcdac7a5337fcee9bce@squarespace.com
DTSTAMP:20200513T173854Z
DTSTART:20200521T000000Z
DTEND:20200521T010000Z
SUMMARY:Huddle with Dee Thornton 
END:VEVENT
END:VCALENDAR
