BEGIN:VCALENDAR
VERSION:2.0
PRODID:-//Squarespace Inc/Squarespace 6//v6//EN
BEGIN:VEVENT
UID:5eba1c21a2f250476647d809@squarespace.com
DTSTAMP:20200513T173847Z
DTSTART:20200514T000000Z
DTEND:20200514T010000Z
SUMMARY:Huddle with Dee Thornton
END:VEVENT
END:VCALENDAR
