BEGIN:VCALENDAR
VERSION:2.0
PRODID:-//Squarespace Inc/Squarespace 6//v6//EN
BEGIN:VEVENT
UID:5e5c512b483fcf203367f7b9@squarespace.com
DTSTAMP:20200326T185050Z
DTSTART:20200602T100000Z
DTEND:20200602T220000Z
SUMMARY:VOTE - Primary Election
END:VEVENT
END:VCALENDAR
